View In:
ArcGIS JavaScript
ArcGIS.com Map
ArcGIS Earth
Service Description: 2015 Aerials
Name: BaseMaps/GISRaster_SDE_AERIALS_2015
Description: 2015 Aerials
Single Fused Map Cache: true
Tile Info:
- Height: 256
- Width: 256
- DPI: 96
-
Levels of Detail: 10
- Format: JPEG
- Compression Quality: 55.0
- LERC Error: NaN
- Origin: X: -1.81198E7
Y: 2.00127E7
- Spatial Reference: 2244
(2965)
LatestVCSWkid(0)
Storage Info:
- Storage Format: esriMapCacheStorageModeCompact
- Packet Size: 128
Extent:
XMin: 417500.0174010582
YMin: 2062499.8280103728
XMax: 567500.0174010582
YMax: 2197499.828010373
Spatial Reference: 2244
(2965)
LatestVCSWkid(0)
Initial Extent:
XMin: 417500.0174010582
YMin: 2062499.8280103728
XMax: 567500.0174010582
YMax: 2197499.828010373
Spatial Reference: 2244
(2965)
LatestVCSWkid(0)
Full Extent:
XMin: 417500.0174010582
YMin: 2062499.8280103728
XMax: 567500.0174010582
YMax: 2197499.828010373
Spatial Reference: 2244
(2965)
LatestVCSWkid(0)
Pixel Size X: 0.5
Pixel Size Y: 0.5
Band Count: 4
Pixel Type: U8
RasterFunction Infos: {"rasterFunctionInfos": [{
"name": "None",
"description": "",
"help": ""
}]}
Mensuration Capabilities: Basic
Inspection Capabilities:
Has Histograms: true
Has Colormap: false
Has Multi Dimensions : false
Rendering Rule:
Min Scale: 288000
Max Scale: 500
Copyright Text:
Service Data Type: esriImageServiceDataTypeGeneric
Min Values: 0, 0, 0, 0
Max Values: 255, 255, 255, 255
Mean Values: 113.03327108497255, 111.08403396757507, 101.06739514952105, 105.75723139874071
Standard Deviation Values: 26.96465303109913, 26.06681551425631, 29.109018797499363, 29.03025895717824
Object ID Field:
Fields:
None
Default Mosaic Method: Center
Allowed Mosaic Methods:
SortField:
SortValue: null
Mosaic Operator: First
Default Compression Quality: 75
Default Resampling Method: Bilinear
Max Record Count: null
Max Image Height: 4100
Max Image Width: 15000
Max Download Image Count: null
Max Mosaic Image Count: null
Allow Raster Function: true
Allow Copy: true
Allow Analysis: true
Allow Compute TiePoints: false
Supports Statistics: false
Supports Advanced Queries: false
Use StandardizedQueries: true
Raster Type Infos:
Name: Raster Dataset
Description: Supports all ArcGIS Raster Datasets
Help:
Has Raster Attribute Table: false
Edit Fields Info: null
Ownership Based AccessControl For Rasters: null
Child Resources:
Info
Histograms
Statistics
Key Properties
Legend
Raster Function Infos
Supported Operations:
Export Image
Identify
Measure
Compute Histograms
Compute Statistics Histograms
Get Samples
Compute Class Statistics
Query Boundary
Compute Pixel Location
Compute Angles
Validate
Project