View In:
ArcGIS JavaScript
ArcGIS Online Map Viewer
ArcGIS Earth
Service Description: TASK NAME: 2012 Indiana Statewide Imagery and LiDAR Program The Indiana Statewide Imagery and LiDAR project includes data captured at the following specifications: New 1 = 200 scale 4-band orthoimagery (TIF and ECW formats) at a 1-foot pixel resolution for all Indiana counties New 1 = 100 scale 4-band orthoimagery (TIF and ECW formats) at a 0.5-foot pixel resolution for the following Indiana counties flown in 2011: Marion, St. Joseph, Elkhart, Kosciusko, Bartholomew, and Harrison New Statewide LiDAR data at a 1.5-meter average post spacing for all Indiana counties, except: Porter, Steuben, Noble, De Kalb, Allen, Madison, Delaware, Hendricks, Marion, Hancock, Morgan, Johnson, Shelby, Monroe, and portions of Vermillion, Parke, Vigo, Clay, Sullivan, Knox, Gibson, and Posey. The project is divided into three geographic areas: Area 1 2011 - Indiana central counties: St. Joseph, Elkhart, Starke, Marshall, Kosciusko, Pulaski, Fulton, Cass, Miami, Wabash, Carroll, Howard, Clinton, Tipton, Boone, Hendricks, Marion, Morgan, Johnson, Monroe, Brown, Bartholomew, Lawrence, Jackson, Orange, Washington, Crawford, and Harrison. Area 2 2012 - Indiana eastern counties: LaGrange, Steuben, Noble, DeKalb, Whitley, Allen, Huntington, Wells, Adams, Grant, Blackford, Jay, Hamilton, Madison, Delaware, Randolph, Hancock, Henry, Wayne, Shelby, Rush, Fayette, Union, Decatur, Franklin, Jennings, Ripley, Dearborn, Ohio, Scott, Jefferson, Switzerland, Clark, and Floyd. Area 3 Scheduled for 2013 - Indiana western counties: Lake, Porter, LaPorte, Newton, Jasper, Benton, White, Warren, Tippecanoe, Fountain, Montgomery, Vermillion, Parke, Putnam, Vigo, Clay, Owen, Sullivan, Greene, Knox, Daviess, Martin, Gibson, Pike, Dubois, Posey, Vanderburgh, Warrick, Spencer, and Perry. Area 1 data was acquired in 2011. Area 2 data was acquired in 2012. According to the scope of this project, additional data collection is scheduled for Area 3 in 2013. Projection Reference: EPSG2965: NAD83 Indiana East (ftUS) and EPSG2966: NAD83 Indiana West (ftUS). Note: The ground control survey performed to support the Orthophotography and LiDAR data used the NAD 1983 NSRS2007 (ftUS) projection. To facilitate usability by multiple software versions the Orthophotography and LiDAR is only referenced to NAD 83, and the file projection/header information was written to the files using ERDAS IMAGINE.
Name: Aerials/Aerials_2012
Description: TASK NAME: 2012 Indiana Statewide Imagery and LiDAR Program The Indiana Statewide Imagery and LiDAR project includes data captured at the following specifications: New 1 = 200 scale 4-band orthoimagery (TIF and ECW formats) at a 1-foot pixel resolution for all Indiana counties New 1 = 100 scale 4-band orthoimagery (TIF and ECW formats) at a 0.5-foot pixel resolution for the following Indiana counties flown in 2011: Marion, St. Joseph, Elkhart, Kosciusko, Bartholomew, and Harrison New Statewide LiDAR data at a 1.5-meter average post spacing for all Indiana counties, except: Porter, Steuben, Noble, De Kalb, Allen, Madison, Delaware, Hendricks, Marion, Hancock, Morgan, Johnson, Shelby, Monroe, and portions of Vermillion, Parke, Vigo, Clay, Sullivan, Knox, Gibson, and Posey. The project is divided into three geographic areas: Area 1 2011 - Indiana central counties: St. Joseph, Elkhart, Starke, Marshall, Kosciusko, Pulaski, Fulton, Cass, Miami, Wabash, Carroll, Howard, Clinton, Tipton, Boone, Hendricks, Marion, Morgan, Johnson, Monroe, Brown, Bartholomew, Lawrence, Jackson, Orange, Washington, Crawford, and Harrison. Area 2 2012 - Indiana eastern counties: LaGrange, Steuben, Noble, DeKalb, Whitley, Allen, Huntington, Wells, Adams, Grant, Blackford, Jay, Hamilton, Madison, Delaware, Randolph, Hancock, Henry, Wayne, Shelby, Rush, Fayette, Union, Decatur, Franklin, Jennings, Ripley, Dearborn, Ohio, Scott, Jefferson, Switzerland, Clark, and Floyd. Area 3 Scheduled for 2013 - Indiana western counties: Lake, Porter, LaPorte, Newton, Jasper, Benton, White, Warren, Tippecanoe, Fountain, Montgomery, Vermillion, Parke, Putnam, Vigo, Clay, Owen, Sullivan, Greene, Knox, Daviess, Martin, Gibson, Pike, Dubois, Posey, Vanderburgh, Warrick, Spencer, and Perry. Area 1 data was acquired in 2011. Area 2 data was acquired in 2012. According to the scope of this project, additional data collection is scheduled for Area 3 in 2013. Projection Reference: EPSG2965: NAD83 Indiana East (ftUS) and EPSG2966: NAD83 Indiana West (ftUS). Note: The ground control survey performed to support the Orthophotography and LiDAR data used the NAD 1983 NSRS2007 (ftUS) projection. To facilitate usability by multiple software versions the Orthophotography and LiDAR is only referenced to NAD 83, and the file projection/header information was written to the files using ERDAS IMAGINE.
Single Fused Map Cache: true
Tile Info:
- Height: 256
- Width: 256
- DPI: 96
-
Levels of Detail: 10
- Format: JPEG
- Compression Quality: 55.0
- LERC Error: NaN
- Origin: X: -1.81198E7
Y: 2.00127E7
- Spatial Reference: 2244
(2965)
Storage Info:
- Storage Format: esriMapCacheStorageModeCompact
- Packet Size: 128
Extent:
XMin: 417499.99997996166
YMin: 2062500.0000087097
XMax: 569999.9999799617
YMax: 2197500.0000087097
Spatial Reference: 2244
(2965)
Initial Extent:
XMin: 417499.99997996166
YMin: 2062500.0000087097
XMax: 569999.9999799617
YMax: 2197500.0000087097
Spatial Reference: 2244
(2965)
Full Extent:
XMin: 417499.99997996166
YMin: 2062500.0000087097
XMax: 569999.9999799617
YMax: 2197500.0000087097
Spatial Reference: 2244
(2965)
Pixel Size X: 0.5
Pixel Size Y: 0.5
Band Count: 4
Pixel Type: U8
RasterFunction Infos: {"rasterFunctionInfos": [{
"name": "None",
"description": "",
"help": ""
}]}
Mensuration Capabilities:
Inspection Capabilities:
Has Histograms: true
Has Colormap: false
Has Multi Dimensions : false
Rendering Rule:
Min Scale: 288000
Max Scale: 500
Copyright Text:
Service Data Type: esriImageServiceDataTypeGeneric
Min Values: 0, 0, 0, 0
Max Values: 255, 255, 255, 255
Mean Values: 135.64030401426078, 128.7916250464214, 101.8523633405104, 134.70092566985994
Standard Deviation Values: 32.241050181998325, 29.0206734536834, 25.56004338989615, 28.38634117764391
Object ID Field: OBJECTID
Fields:
-
OBJECTID
(
type: esriFieldTypeOID, alias: OBJECTID
)
-
Name
(
type: esriFieldTypeString, alias: Name, length: 50
)
-
MinPS
(
type: esriFieldTypeDouble, alias: MinPS
)
-
MaxPS
(
type: esriFieldTypeDouble, alias: MaxPS
)
-
LowPS
(
type: esriFieldTypeDouble, alias: LowPS
)
-
HighPS
(
type: esriFieldTypeDouble, alias: HighPS
)
-
Category
(
type: esriFieldTypeInteger, alias: Category
)
-
Tag
(
type: esriFieldTypeString, alias: Tag, length: 20
)
-
GroupName
(
type: esriFieldTypeString, alias: GroupName, length: 50
)
-
ProductName
(
type: esriFieldTypeString, alias: ProductName, length: 50
)
-
CenterX
(
type: esriFieldTypeDouble, alias: CenterX
)
-
CenterY
(
type: esriFieldTypeDouble, alias: CenterY
)
-
ZOrder
(
type: esriFieldTypeDouble, alias: ZOrder
)
-
SOrder
(
type: esriFieldTypeDouble, alias: SOrder
)
-
StereoID
(
type: esriFieldTypeString, alias: StereoID, length: 50
)
-
Shape
(
type: esriFieldTypeGeometry, alias: Shape
)
-
Shape.area
(
type: esriFieldTypeDouble, alias: Shape.area
)
-
Shape.len
(
type: esriFieldTypeDouble, alias: Shape.len
)
Default Mosaic Method: Center
Allowed Mosaic Methods: Center,NorthWest,LockRaster,ByAttribute,Nadir,Viewpoint,Seamline,None
SortField:
SortValue: null
Mosaic Operator: First
Default Compression Quality: 75
Default Resampling Method: Bilinear
Max Record Count: 1000
Max Image Height: 4100
Max Image Width: 15000
Max Download Image Count: 20
Max Mosaic Image Count: 20
Allow Raster Function: true
Allow Copy: true
Allow Analysis: true
Allow Compute TiePoints: false
Supports Statistics: true
Supports Advanced Queries: true
Use StandardizedQueries: true
Raster Type Infos:
Name: Raster Dataset
Description: Supports all ArcGIS Raster Datasets
Help:
Has Raster Attribute Table: false
Edit Fields Info: null
Ownership Based AccessControl For Rasters: null
Child Resources:
Info
Histograms
Statistics
Key Properties
Legend
Raster Function Infos
Supported Operations:
Export Image
Identify
Measure
Compute Histograms
Compute Statistics Histograms
Get Samples
Compute Class Statistics
Query Boundary
Compute Pixel Location
Compute Angles
Validate
Project