View In:
ArcGIS JavaScript
ArcGIS Online Map Viewer
ArcGIS Earth
Service Description: This metadata record describes the digital ortho imagery for Allen County, IN. This 1200 scale imagery is comprised of natural color orthophotography with a GSD (Ground Sample Distance) of 0.5'. Imagery was collected with the Leica ADS40 digital sensor and processed with Leica GPro software
Name: Aerials/AERIALS_2006
Description: This metadata record describes the digital ortho imagery for Allen County, IN. This 1200 scale imagery is comprised of natural color orthophotography with a GSD (Ground Sample Distance) of 0.5'. Imagery was collected with the Leica ADS40 digital sensor and processed with Leica GPro software
Single Fused Map Cache: true
Tile Info:
- Height: 256
- Width: 256
- DPI: 96
-
Levels of Detail: 10
- Format: JPEG
- Compression Quality: 55.0
- LERC Error: NaN
- Origin: X: -1.81198E7
Y: 2.00127E7
- Spatial Reference: 2244
(2965)
Storage Info:
- Storage Format: esriMapCacheStorageModeCompact
- Packet Size: 128
Extent:
XMin: 413000
YMin: 2062000
XMax: 572000
YMax: 2200000
Spatial Reference: 2244
(2965)
Initial Extent:
XMin: 413000
YMin: 2062000
XMax: 572000
YMax: 2200000
Spatial Reference: 2244
(2965)
Full Extent:
XMin: 413000
YMin: 2062000
XMax: 572000
YMax: 2200000
Spatial Reference: 2244
(2965)
Pixel Size X: 0.5
Pixel Size Y: 0.5
Band Count: 3
Pixel Type: U8
RasterFunction Infos: {"rasterFunctionInfos": [{
"name": "None",
"description": "",
"help": ""
}]}
Mensuration Capabilities: Basic
Inspection Capabilities:
Has Histograms: true
Has Colormap: false
Has Multi Dimensions : false
Rendering Rule:
Min Scale: 288000
Max Scale: 500
Copyright Text:
Service Data Type: esriImageServiceDataTypeRGB
Min Values: 0, 0, 0
Max Values: 255, 255, 255
Mean Values: 132.23351338665324, 135.28565979834562, 118.971553476265
Standard Deviation Values: 32.54484580837284, 27.536460660246508, 29.206873920265014
Object ID Field:
Fields:
None
Default Mosaic Method: Center
Allowed Mosaic Methods:
SortField:
SortValue: null
Mosaic Operator: First
Default Compression Quality: 75
Default Resampling Method: Bilinear
Max Record Count: null
Max Image Height: 4100
Max Image Width: 15000
Max Download Image Count: null
Max Mosaic Image Count: null
Allow Raster Function: true
Allow Copy: true
Allow Analysis: true
Allow Compute TiePoints: false
Supports Statistics: false
Supports Advanced Queries: false
Use StandardizedQueries: true
Raster Type Infos:
Name: Raster Dataset
Description: Supports all ArcGIS Raster Datasets
Help:
Has Raster Attribute Table: false
Edit Fields Info: null
Ownership Based AccessControl For Rasters: null
Child Resources:
Info
Histograms
Statistics
Key Properties
Legend
Raster Function Infos
Supported Operations:
Export Image
Identify
Measure
Compute Histograms
Compute Statistics Histograms
Get Samples
Compute Class Statistics
Query Boundary
Compute Pixel Location
Compute Angles
Validate
Project