View In:
ArcGIS JavaScript
ArcGIS Online Map Viewer
ArcGIS Earth
Service Description: Raster dataset created from scans of 1995 aerial contact prints, cropped to remove photo registration marks and to a uniform size. Each image was geo-referenced to Allen County street centerline data.
Name: Aerials/AERIALS_1995
Description: Raster dataset created from scans of 1995 aerial contact prints, cropped to remove photo registration marks and to a uniform size. Each image was geo-referenced to Allen County street centerline data.
Single Fused Map Cache: true
Tile Info:
- Height: 256
- Width: 256
- DPI: 96
-
Levels of Detail: 10
- Format: JPEG
- Compression Quality: 55.0
- LERC Error: NaN
- Origin: X: -1.81198E7
Y: 2.00127E7
- Spatial Reference: 2244
(2965)
Storage Info:
- Storage Format: esriMapCacheStorageModeCompact
- Packet Size: 128
Extent:
XMin: 416066.28945877217
YMin: 2059824.7103222057
XMax: 568413.9277567961
YMax: 2199107.6124085975
Spatial Reference: 2244
(2965)
Initial Extent:
XMin: 416066.28945877217
YMin: 2059824.7103222057
XMax: 568413.9277567961
YMax: 2199107.6124085975
Spatial Reference: 2244
(2965)
Full Extent:
XMin: 416066.28945877217
YMin: 2059824.7103222057
XMax: 568413.9277567961
YMax: 2199107.6124085975
Spatial Reference: 2244
(2965)
Pixel Size X: 0.6506023056405936
Pixel Size Y: 0.6480685933667961
Band Count: 1
Pixel Type: U8
RasterFunction Infos: {"rasterFunctionInfos": [{
"name": "None",
"description": "",
"help": ""
}]}
Mensuration Capabilities: Basic
Inspection Capabilities:
Has Histograms: true
Has Colormap: false
Has Multi Dimensions : false
Rendering Rule:
Min Scale: 288000
Max Scale: 500
Copyright Text: Allen County iMap, Department of Planning Services
Service Data Type: esriImageServiceDataTypeGeneric
Min Values: 9
Max Values: 255
Mean Values: 79.64688404702568
Standard Deviation Values: 49.32546777803078
Object ID Field:
Fields:
None
Default Mosaic Method: Center
Allowed Mosaic Methods:
SortField:
SortValue: null
Mosaic Operator: First
Default Compression Quality: 75
Default Resampling Method: Bilinear
Max Record Count: null
Max Image Height: 4100
Max Image Width: 15000
Max Download Image Count: null
Max Mosaic Image Count: null
Allow Raster Function: true
Allow Copy: true
Allow Analysis: true
Allow Compute TiePoints: false
Supports Statistics: false
Supports Advanced Queries: false
Use StandardizedQueries: true
Raster Type Infos:
Name: Raster Dataset
Description: Supports all ArcGIS Raster Datasets
Help:
Has Raster Attribute Table: false
Edit Fields Info: null
Ownership Based AccessControl For Rasters: null
Child Resources:
Info
Histograms
Statistics
Key Properties
Legend
Raster Function Infos
Supported Operations:
Export Image
Identify
Measure
Compute Histograms
Compute Statistics Histograms
Get Samples
Compute Class Statistics
Query Boundary
Compute Pixel Location
Compute Angles
Validate
Project