View In:
ArcGIS JavaScript
ArcGIS Online Map Viewer
ArcGIS Earth
Service Description: Aerials/AERIALS_1986
Name: Aerials/AERIALS_1986
Description:
Single Fused Map Cache: true
Tile Info:
- Height: 256
- Width: 256
- DPI: 96
-
Levels of Detail: 10
- Format: JPEG
- Compression Quality: 55.0
- LERC Error: NaN
- Origin: X: -1.81198E7
Y: 2.00127E7
- Spatial Reference: 2244
(2965)
Storage Info:
- Storage Format: esriMapCacheStorageModeCompact
- Packet Size: 128
Extent:
XMin: 413462.6129244715
YMin: 2061390.842360042
XMax: 569236.8163763434
YMax: 2197895.0426753685
Spatial Reference: 2244
(2965)
Initial Extent:
XMin: 413462.6129244715
YMin: 2061390.842360042
XMax: 569236.8163763434
YMax: 2197895.0426753685
Spatial Reference: 2244
(2965)
Full Extent:
XMin: 413462.6129244715
YMin: 2061390.842360042
XMax: 569236.8163763434
YMax: 2197895.0426753685
Spatial Reference: 2244
(2965)
Pixel Size X: 1.777027189731598
Pixel Size Y: 1.7705054581165314
Band Count: 1
Pixel Type: U8
RasterFunction Infos: {"rasterFunctionInfos": [{
"name": "None",
"description": "",
"help": ""
}]}
Mensuration Capabilities: Basic
Inspection Capabilities:
Has Histograms: true
Has Colormap: false
Has Multi Dimensions : false
Rendering Rule:
Min Scale: 288000
Max Scale: 500
Copyright Text: Allen County iMap, Department of Planning Services
Service Data Type: esriImageServiceDataTypeGeneric
Min Values: 15
Max Values: 255
Mean Values: 94.35161180269216
Standard Deviation Values: 34.0782138410755
Object ID Field:
Fields:
None
Default Mosaic Method: Center
Allowed Mosaic Methods:
SortField:
SortValue: null
Mosaic Operator: First
Default Compression Quality: 75
Default Resampling Method: Bilinear
Max Record Count: null
Max Image Height: 4100
Max Image Width: 15000
Max Download Image Count: null
Max Mosaic Image Count: null
Allow Raster Function: true
Allow Copy: true
Allow Analysis: true
Allow Compute TiePoints: false
Supports Statistics: false
Supports Advanced Queries: false
Use StandardizedQueries: true
Raster Type Infos:
Name: Raster Dataset
Description: Supports all ArcGIS Raster Datasets
Help:
Has Raster Attribute Table: false
Edit Fields Info: null
Ownership Based AccessControl For Rasters: null
Child Resources:
Info
Histograms
Statistics
Key Properties
Legend
Raster Function Infos
Supported Operations:
Export Image
Identify
Measure
Compute Histograms
Compute Statistics Histograms
Get Samples
Compute Class Statistics
Query Boundary
Compute Pixel Location
Compute Angles
Validate
Project