View In:
ArcGIS JavaScript
ArcGIS Online Map Viewer
ArcGIS Earth
Service Description: Raster dataset created from scans of 1972 aerial contact prints, cropped to remove photo registration marks at 300 dpi at 24-bit. Each image was geo-referenced to Allen County street centerline data.
Name: Aerials/AERIALS_1972
Description: Raster dataset created from scans of 1972 aerial contact prints, cropped to remove photo registration marks at 300 dpi at 24-bit. Each image was geo-referenced to Allen County street centerline data.
Single Fused Map Cache: true
Tile Info:
- Height: 256
- Width: 256
- DPI: 96
-
Levels of Detail: 10
- Format: JPEG
- Compression Quality: 55.0
- LERC Error: NaN
- Origin: X: -1.81198E7
Y: 2.00127E7
- Spatial Reference: 2244
(2965)
Storage Info:
- Storage Format: esriMapCacheStorageModeCompact
- Packet Size: 128
Extent:
XMin: 404315.4676841125
YMin: 2049064.747909665
XMax: 582607.0866933651
YMax: 2210765.7659733742
Spatial Reference: 2244
(2965)
Initial Extent:
XMin: 404315.4676841125
YMin: 2049064.747909665
XMax: 582607.0866933651
YMax: 2210765.7659733742
Spatial Reference: 2244
(2965)
Full Extent:
XMin: 404315.4676841125
YMin: 2049064.747909665
XMax: 582607.0866933651
YMax: 2210765.7659733742
Spatial Reference: 2244
(2965)
Pixel Size X: 7.088848117738962
Pixel Size Y: 7.076940700411797
Band Count: 3
Pixel Type: U8
RasterFunction Infos: {"rasterFunctionInfos": [{
"name": "None",
"description": "",
"help": ""
}]}
Mensuration Capabilities: Basic
Inspection Capabilities:
Has Histograms: true
Has Colormap: false
Has Multi Dimensions : false
Rendering Rule:
Min Scale: 288000
Max Scale: 500
Copyright Text: Allen County iMap, Allen County Surveyor's Office
Service Data Type: esriImageServiceDataTypeRGB
Min Values: 0, 0, 0
Max Values: 255, 255, 255
Mean Values: 168.11310555570773, 165.18831450312518, 163.35167332085965
Standard Deviation Values: 42.764334911007595, 41.273284864887735, 41.06492213644112
Object ID Field:
Fields:
None
Default Mosaic Method: Center
Allowed Mosaic Methods:
SortField:
SortValue: null
Mosaic Operator: First
Default Compression Quality: 75
Default Resampling Method: Bilinear
Max Record Count: null
Max Image Height: 4100
Max Image Width: 15000
Max Download Image Count: null
Max Mosaic Image Count: null
Allow Raster Function: true
Allow Copy: true
Allow Analysis: true
Allow Compute TiePoints: false
Supports Statistics: false
Supports Advanced Queries: false
Use StandardizedQueries: true
Raster Type Infos:
Name: Raster Dataset
Description: Supports all ArcGIS Raster Datasets
Help:
Has Raster Attribute Table: false
Edit Fields Info: null
Ownership Based AccessControl For Rasters: null
Child Resources:
Info
Histograms
Statistics
Key Properties
Legend
Raster Function Infos
Supported Operations:
Export Image
Identify
Measure
Compute Histograms
Compute Statistics Histograms
Get Samples
Compute Class Statistics
Query Boundary
Compute Pixel Location
Compute Angles
Validate
Project