{
 "currentVersion": 11.3,
 "serviceDescription": "Aerials2018",
 "name": "Aerials/Aerials_2018",
 "description": "Aerials2018",
 "extent": {
  "xmin": 417500.01743040606,
  "ymin": 2062499.8280087037,
  "xmax": 570000.0174306475,
  "ymax": 2197499.8280087067,
  "spatialReference": {
   "wkid": 2244,
   "latestWkid": 2965
  }
 },
 "initialExtent": {
  "xmin": 417500.01743040606,
  "ymin": 2062499.8280087037,
  "xmax": 570000.0174306475,
  "ymax": 2197499.8280087067,
  "spatialReference": {
   "wkid": 2244,
   "latestWkid": 2965
  }
 },
 "fullExtent": {
  "xmin": 417500.01743040606,
  "ymin": 2062499.8280087037,
  "xmax": 570000.0174306475,
  "ymax": 2197499.8280087067,
  "spatialReference": {
   "wkid": 2244,
   "latestWkid": 2965
  }
 },
 "sortableFields": "",
 "bandCount": 4,
 "pixelType": "U8",
 "minValues": [
  0,
  0,
  0,
  0
 ],
 "maxValues": [
  255,
  255,
  255,
  255
 ],
 "meanValues": [
  134.63089626785967,
  129.38957462347602,
  123.0474218450295,
  134.9719147398101
 ],
 "stdvValues": [
  37.56539639264833,
  37.186194059236676,
  36.11390124415371,
  41.06370029418643
 ],
 "hasMultidimensions": false,
 "pixelSizeX": 0.5000000000007916,
 "pixelSizeY": 0.5000000000000112,
 "meanPixelSize": 0.152400304800732,
 "datasetFormat": "SDR",
 "uncompressedSize": 329400000000,
 "blockWidth": 128,
 "blockHeight": 128,
 "compressionType": "LZ77",
 "bandNames": [
  "Band_1",
  "Band_2",
  "Band_3",
  "Band_4"
 ],
 "allowCopy": true,
 "allowAnalysis": true,
 "itemAccess": false,
 "inspectionCapabilities": "",
 "minPixelSize": 0.4340277777777778,
 "maxPixelSize": 250,
 "copyrightText": "imap",
 "serviceDataType": "esriImageServiceDataTypeGeneric",
 "serviceSourceType": "esriImageServiceSourceTypeDataset",
 "objectIdField": "",
 "fields": [],
 "capabilities": "Mensuration,Image,Metadata",
 "defaultMosaicMethod": "Center",
 "allowedMosaicMethods": "",
 "sortField": "",
 "sortValue": null,
 "sortAscending": true,
 "mosaicOperator": "First",
 "defaultCompressionQuality": 75,
 "defaultResamplingMethod": "Bicubic",
 "maxImageHeight": 4100,
 "maxImageWidth": 15000,
 "singleFusedMapCache": true,
 "tileInfo": {
  "rows": 256,
  "cols": 256,
  "dpi": 96,
  "format": "JPEG",
  "compressionQuality": 55,
  "origin": {
   "x": -18119800,
   "y": 20012700
  },
  "spatialReference": {
   "wkid": 2244,
   "latestWkid": 2965
  },
  "lods": [
   {
    "level": 0,
    "resolution": 250,
    "scale": 288000
   },
   {
    "level": 1,
    "resolution": 125,
    "scale": 144000
   },
   {
    "level": 2,
    "resolution": 62.5,
    "scale": 72000
   },
   {
    "level": 3,
    "resolution": 31.25,
    "scale": 36000
   },
   {
    "level": 4,
    "resolution": 15.625,
    "scale": 18000
   },
   {
    "level": 5,
    "resolution": 7.8125,
    "scale": 9000
   },
   {
    "level": 6,
    "resolution": 3.90625,
    "scale": 4500
   },
   {
    "level": 7,
    "resolution": 1.736111111111111,
    "scale": 2000
   },
   {
    "level": 8,
    "resolution": 0.8680555555555555,
    "scale": 1000
   },
   {
    "level": 9,
    "resolution": 0.43402777777777773,
    "scale": 500
   }
  ]
 },
 "storageInfo": {
  "storageFormat": "esriMapCacheStorageModeCompact",
  "packetSize": 128
 },
 "cacheType": "Map",
 "allowRasterFunction": true,
 "rasterFunctionInfos": [
  {
   "name": "None",
   "description": "",
   "help": ""
  }
 ],
 "rasterTypeInfos": [
  {
   "name": "Raster Dataset",
   "description": "Supports all ArcGIS Raster Datasets",
   "help": ""
  }
 ],
 "mensurationCapabilities": "Basic",
 "hasHistograms": true,
 "hasColormap": false,
 "hasRasterAttributeTable": false,
 "minScale": 288000,
 "maxScale": 500,
 "exportTilesAllowed": false,
 "supportsStatistics": false,
 "supportsAdvancedQueries": false,
 "editFieldsInfo": null,
 "ownershipBasedAccessControlForRasters": null,
 "allowComputeTiePoints": false,
 "useStandardizedQueries": true,
 "advancedQueryCapabilities": {
  "useStandardizedQueries": true,
  "supportsStatistics": false,
  "supportsOrderBy": false,
  "supportsDistinct": false,
  "supportsPagination": false
 },
 "spatialReference": {
  "wkid": 2244,
  "latestWkid": 2965
 },
 "resampling": false
}
