{ "currentVersion": 11.3, "serviceDescription": "
The 2008 aerial photography was flown April 16th & 18th of 2008. It was produced by the City of Fort Wayne, with a grant from the National Geospatial Intelligence Agency and the USGS. The photos have a 6\" pixel resolution and cover the entire county.<\/span><\/p> <\/p><\/div><\/div><\/div>",
"name": "Aerials/AERIALS_2008",
"description": " The 2008 aerial photography was flown April 16th & 18th of 2008. It was produced by the City of Fort Wayne, with a grant from the National Geospatial Intelligence Agency and the USGS. The photos have a 6\" pixel resolution and cover the entire county.<\/span><\/p> <\/p><\/div><\/div><\/div>",
"extent": {
"xmin": 416000,
"ymin": 2060000,
"xmax": 568000,
"ymax": 2200000,
"spatialReference": {
"wkid": 2244,
"latestWkid": 2965
}
},
"initialExtent": {
"xmin": 416000,
"ymin": 2060000,
"xmax": 568000,
"ymax": 2200000,
"spatialReference": {
"wkid": 2244,
"latestWkid": 2965
}
},
"fullExtent": {
"xmin": 416000,
"ymin": 2060000,
"xmax": 568000,
"ymax": 2200000,
"spatialReference": {
"wkid": 2244,
"latestWkid": 2965
}
},
"sortableFields": "",
"bandCount": 3,
"pixelType": "U8",
"minValues": [
0,
0,
0
],
"maxValues": [
254,
254,
254
],
"meanValues": [
132.64363605580357,
131.35055140290177,
122.12443143526785
],
"stdvValues": [
42.84430847757848,
40.05599978862122,
35.54615682195049
],
"hasMultidimensions": false,
"pixelSizeX": 0.5,
"pixelSizeY": 0.5,
"meanPixelSize": 0.15240030480060962,
"datasetFormat": "SDR",
"uncompressedSize": 255360000000,
"blockWidth": 128,
"blockHeight": 128,
"compressionType": "LZ77",
"bandNames": [
"Band_1",
"Band_2",
"Band_3"
],
"allowCopy": true,
"allowAnalysis": true,
"itemAccess": false,
"inspectionCapabilities": "",
"minPixelSize": 0.4340277777777778,
"maxPixelSize": 250,
"copyrightText": "",
"serviceDataType": "esriImageServiceDataTypeRGB",
"serviceSourceType": "esriImageServiceSourceTypeDataset",
"objectIdField": "",
"fields": [],
"capabilities": "Mensuration,Image,Metadata",
"defaultMosaicMethod": "Center",
"allowedMosaicMethods": "",
"sortField": "",
"sortValue": null,
"sortAscending": true,
"mosaicOperator": "First",
"defaultCompressionQuality": 75,
"defaultResamplingMethod": "Bilinear",
"maxImageHeight": 4100,
"maxImageWidth": 15000,
"singleFusedMapCache": true,
"tileInfo": {
"rows": 256,
"cols": 256,
"dpi": 96,
"format": "JPEG",
"compressionQuality": 55,
"origin": {
"x": -18119800,
"y": 20012700
},
"spatialReference": {
"wkid": 2244,
"latestWkid": 2965
},
"lods": [
{
"level": 0,
"resolution": 250,
"scale": 288000
},
{
"level": 1,
"resolution": 125,
"scale": 144000
},
{
"level": 2,
"resolution": 62.5,
"scale": 72000
},
{
"level": 3,
"resolution": 31.25,
"scale": 36000
},
{
"level": 4,
"resolution": 15.625,
"scale": 18000
},
{
"level": 5,
"resolution": 7.8125,
"scale": 9000
},
{
"level": 6,
"resolution": 3.90625,
"scale": 4500
},
{
"level": 7,
"resolution": 1.736111111111111,
"scale": 2000
},
{
"level": 8,
"resolution": 0.8680555555555555,
"scale": 1000
},
{
"level": 9,
"resolution": 0.43402777777777773,
"scale": 500
}
]
},
"storageInfo": {
"storageFormat": "esriMapCacheStorageModeCompact",
"packetSize": 128
},
"cacheType": "Map",
"allowRasterFunction": true,
"rasterFunctionInfos": [
{
"name": "None",
"description": "",
"help": ""
}
],
"rasterTypeInfos": [
{
"name": "Raster Dataset",
"description": "Supports all ArcGIS Raster Datasets",
"help": ""
}
],
"mensurationCapabilities": "Basic",
"hasHistograms": true,
"hasColormap": false,
"hasRasterAttributeTable": false,
"minScale": 288000,
"maxScale": 500,
"exportTilesAllowed": false,
"supportsStatistics": false,
"supportsAdvancedQueries": false,
"editFieldsInfo": null,
"ownershipBasedAccessControlForRasters": null,
"allowComputeTiePoints": false,
"useStandardizedQueries": true,
"advancedQueryCapabilities": {
"useStandardizedQueries": true,
"supportsStatistics": false,
"supportsOrderBy": false,
"supportsDistinct": false,
"supportsPagination": false
},
"spatialReference": {
"wkid": 2244,
"latestWkid": 2965
}
}