{ "currentVersion": 11.3, "serviceDescription": "
A digital orthophoto (DO) is a digital raster image of an aerial photograph which, through a process of differential rectification, has been brought to an accurate, uniform scale with a specified tolerance. The differential rectification process involves relating the digital photo imagery to terrain coordinates and elevations (e.g., a digital terrain model) so as to correct for scale variation due to terrain relief and image displacement due to the angular offsets of the aerial camera at the time of exposure. A digital orthophoto is essentially the image-based equivalent of a photogrammetrically compiled planimetric map. Allen County .5' Pixel Orthophotography<\/span><\/p><\/div><\/div><\/div>",
"name": "Aerials/AERIALS_2003",
"description": " A digital orthophoto (DO) is a digital raster image of an aerial photograph which, through a process of differential rectification, has been brought to an accurate, uniform scale with a specified tolerance. The differential rectification process involves relating the digital photo imagery to terrain coordinates and elevations (e.g., a digital terrain model) so as to correct for scale variation due to terrain relief and image displacement due to the angular offsets of the aerial camera at the time of exposure. A digital orthophoto is essentially the image-based equivalent of a photogrammetrically compiled planimetric map. Allen County .5' Pixel Orthophotography<\/span><\/p><\/div><\/div><\/div>",
"extent": {
"xmin": 413000,
"ymin": 2062000,
"xmax": 572000,
"ymax": 2200000,
"spatialReference": {
"wkid": 2244,
"latestWkid": 2965
}
},
"initialExtent": {
"xmin": 413000,
"ymin": 2062000,
"xmax": 572000,
"ymax": 2200000,
"spatialReference": {
"wkid": 2244,
"latestWkid": 2965
}
},
"fullExtent": {
"xmin": 413000,
"ymin": 2062000,
"xmax": 572000,
"ymax": 2200000,
"spatialReference": {
"wkid": 2244,
"latestWkid": 2965
}
},
"sortableFields": "",
"bandCount": 3,
"pixelType": "U8",
"minValues": [
0,
0,
0
],
"maxValues": [
255,
255,
255
],
"meanValues": [
123.57294089472018,
123.54022656749758,
111.38677012843729
],
"stdvValues": [
28.92327568509822,
30.27347261975187,
30.328912824767272
],
"hasMultidimensions": false,
"pixelSizeX": 0.5,
"pixelSizeY": 0.5,
"meanPixelSize": 0.15240030480060962,
"datasetFormat": "SDR",
"uncompressedSize": 263304000000,
"blockWidth": 96,
"blockHeight": 96,
"compressionType": "LZ77",
"bandNames": [
"Band_1",
"Band_2",
"Band_3"
],
"allowCopy": true,
"allowAnalysis": true,
"itemAccess": false,
"inspectionCapabilities": "",
"minPixelSize": 0.4340277777777778,
"maxPixelSize": 250,
"copyrightText": "",
"serviceDataType": "esriImageServiceDataTypeRGB",
"serviceSourceType": "esriImageServiceSourceTypeDataset",
"objectIdField": "",
"fields": [],
"capabilities": "Mensuration,Image,Metadata",
"defaultMosaicMethod": "Center",
"allowedMosaicMethods": "",
"sortField": "",
"sortValue": null,
"sortAscending": true,
"mosaicOperator": "First",
"defaultCompressionQuality": 75,
"defaultResamplingMethod": "Bilinear",
"maxImageHeight": 4100,
"maxImageWidth": 15000,
"singleFusedMapCache": true,
"tileInfo": {
"rows": 256,
"cols": 256,
"dpi": 96,
"format": "JPEG",
"compressionQuality": 55,
"origin": {
"x": -18119800,
"y": 20012700
},
"spatialReference": {
"wkid": 2244,
"latestWkid": 2965
},
"lods": [
{
"level": 0,
"resolution": 250,
"scale": 288000
},
{
"level": 1,
"resolution": 125,
"scale": 144000
},
{
"level": 2,
"resolution": 62.5,
"scale": 72000
},
{
"level": 3,
"resolution": 31.25,
"scale": 36000
},
{
"level": 4,
"resolution": 15.625,
"scale": 18000
},
{
"level": 5,
"resolution": 7.8125,
"scale": 9000
},
{
"level": 6,
"resolution": 3.90625,
"scale": 4500
},
{
"level": 7,
"resolution": 1.736111111111111,
"scale": 2000
},
{
"level": 8,
"resolution": 0.8680555555555555,
"scale": 1000
},
{
"level": 9,
"resolution": 0.43402777777777773,
"scale": 500
}
]
},
"storageInfo": {
"storageFormat": "esriMapCacheStorageModeCompact",
"packetSize": 128
},
"cacheType": "Map",
"allowRasterFunction": true,
"rasterFunctionInfos": [
{
"name": "None",
"description": "",
"help": ""
}
],
"rasterTypeInfos": [
{
"name": "Raster Dataset",
"description": "Supports all ArcGIS Raster Datasets",
"help": ""
}
],
"mensurationCapabilities": "Basic",
"hasHistograms": true,
"hasColormap": false,
"hasRasterAttributeTable": false,
"minScale": 288000,
"maxScale": 500,
"exportTilesAllowed": false,
"supportsStatistics": false,
"supportsAdvancedQueries": false,
"editFieldsInfo": null,
"ownershipBasedAccessControlForRasters": null,
"allowComputeTiePoints": false,
"useStandardizedQueries": true,
"advancedQueryCapabilities": {
"useStandardizedQueries": true,
"supportsStatistics": false,
"supportsOrderBy": false,
"supportsDistinct": false,
"supportsPagination": false
},
"spatialReference": {
"wkid": 2244,
"latestWkid": 2965
}
}