{ "currentVersion": 11.3, "serviceDescription": "
Raster dataset created from scans of 1964 aerial contact prints, cropped to remove photo registration marks. Each image was geo-referenced to Allen County street centerline data. The date on the prints is 7/5/64.<\/span><\/p> <\/p><\/div><\/div><\/div>",
"name": "Aerials/AERIALS_1964",
"description": " Raster dataset created from scans of 1964 aerial contact prints, cropped to remove photo registration marks. Each image was geo-referenced to Allen County street centerline data. The date on the prints is 7/5/64.<\/span><\/p> <\/p><\/div><\/div><\/div>",
"extent": {
"xmin": 410170.8708759621,
"ymin": 2062052.641985122,
"xmax": 574701.785652183,
"ymax": 2196544.5132837035,
"spatialReference": {
"wkid": 2244,
"latestWkid": 2965
}
},
"initialExtent": {
"xmin": 410170.8708759621,
"ymin": 2062052.641985122,
"xmax": 574701.785652183,
"ymax": 2196544.5132837035,
"spatialReference": {
"wkid": 2244,
"latestWkid": 2965
}
},
"fullExtent": {
"xmin": 410170.8708759621,
"ymin": 2062052.641985122,
"xmax": 574701.785652183,
"ymax": 2196544.5132837035,
"spatialReference": {
"wkid": 2244,
"latestWkid": 2965
}
},
"sortableFields": "",
"bandCount": 3,
"pixelType": "U8",
"minValues": [
0,
0,
0
],
"maxValues": [
255,
255,
255
],
"meanValues": [
146.37090719566868,
143.62763500462088,
139.71369163202843
],
"stdvValues": [
34.39289950851237,
33.53020631110581,
33.13107430541024
],
"hasMultidimensions": false,
"pixelSizeX": 3.552125796675682,
"pixelSizeY": 3.5621324107050896,
"meanPixelSize": 1.0842151192350682,
"datasetFormat": "SDR",
"uncompressedSize": 5246460492,
"blockWidth": 128,
"blockHeight": 128,
"compressionType": "LZ77",
"bandNames": [
"Band_1",
"Band_2",
"Band_3"
],
"allowCopy": true,
"allowAnalysis": true,
"itemAccess": false,
"inspectionCapabilities": "",
"minPixelSize": 0.4340277777777778,
"maxPixelSize": 250,
"copyrightText": "Allen County iMap, Allen County Surveyor's Office",
"serviceDataType": "esriImageServiceDataTypeRGB",
"serviceSourceType": "esriImageServiceSourceTypeDataset",
"objectIdField": "",
"fields": [],
"capabilities": "Mensuration,Image,Metadata",
"defaultMosaicMethod": "Center",
"allowedMosaicMethods": "",
"sortField": "",
"sortValue": null,
"sortAscending": true,
"mosaicOperator": "First",
"defaultCompressionQuality": 75,
"defaultResamplingMethod": "Bilinear",
"maxImageHeight": 4100,
"maxImageWidth": 15000,
"singleFusedMapCache": true,
"tileInfo": {
"rows": 256,
"cols": 256,
"dpi": 96,
"format": "JPEG",
"compressionQuality": 55,
"origin": {
"x": -18119800,
"y": 20012700
},
"spatialReference": {
"wkid": 2244,
"latestWkid": 2965
},
"lods": [
{
"level": 0,
"resolution": 250,
"scale": 288000
},
{
"level": 1,
"resolution": 125,
"scale": 144000
},
{
"level": 2,
"resolution": 62.5,
"scale": 72000
},
{
"level": 3,
"resolution": 31.25,
"scale": 36000
},
{
"level": 4,
"resolution": 15.625,
"scale": 18000
},
{
"level": 5,
"resolution": 7.8125,
"scale": 9000
},
{
"level": 6,
"resolution": 3.90625,
"scale": 4500
},
{
"level": 7,
"resolution": 1.736111111111111,
"scale": 2000
},
{
"level": 8,
"resolution": 0.8680555555555555,
"scale": 1000
},
{
"level": 9,
"resolution": 0.43402777777777773,
"scale": 500
}
]
},
"storageInfo": {
"storageFormat": "esriMapCacheStorageModeCompact",
"packetSize": 128
},
"cacheType": "Map",
"allowRasterFunction": true,
"rasterFunctionInfos": [
{
"name": "None",
"description": "",
"help": ""
}
],
"rasterTypeInfos": [
{
"name": "Raster Dataset",
"description": "Supports all ArcGIS Raster Datasets",
"help": ""
}
],
"mensurationCapabilities": "Basic",
"hasHistograms": true,
"hasColormap": false,
"hasRasterAttributeTable": false,
"minScale": 288000,
"maxScale": 500,
"exportTilesAllowed": false,
"supportsStatistics": false,
"supportsAdvancedQueries": false,
"editFieldsInfo": null,
"ownershipBasedAccessControlForRasters": null,
"allowComputeTiePoints": false,
"useStandardizedQueries": true,
"advancedQueryCapabilities": {
"useStandardizedQueries": true,
"supportsStatistics": false,
"supportsOrderBy": false,
"supportsDistinct": false,
"supportsPagination": false
},
"spatialReference": {
"wkid": 2244,
"latestWkid": 2965
}
}