{ "currentVersion": 11.3, "serviceDescription": "
This raster dataset contains a mosaic of scanned imagery from 1938 for Allen County, IN.<\/span><\/p><\/div><\/div><\/div>",
"name": "Aerials/AERIALS_1938",
"description": " This raster dataset contains a mosaic of scanned imagery from 1938 for Allen County, IN.<\/span><\/p><\/div><\/div><\/div>",
"extent": {
"xmin": 414276.74191058055,
"ymin": 2060238.2727940492,
"xmax": 574489.2671932317,
"ymax": 2203028.768346835,
"spatialReference": {
"wkid": 2244,
"latestWkid": 2965
}
},
"initialExtent": {
"xmin": 414276.74191058055,
"ymin": 2060238.2727940492,
"xmax": 574489.2671932317,
"ymax": 2203028.768346835,
"spatialReference": {
"wkid": 2244,
"latestWkid": 2965
}
},
"fullExtent": {
"xmin": 414276.74191058055,
"ymin": 2060238.2727940492,
"xmax": 574489.2671932317,
"ymax": 2203028.768346835,
"spatialReference": {
"wkid": 2244,
"latestWkid": 2965
}
},
"sortableFields": "",
"bandCount": 1,
"pixelType": "U8",
"minValues": [
0
],
"maxValues": [
255
],
"meanValues": [
158.03143193220046
],
"stdvValues": [
42.95515724572648
],
"hasMultidimensions": false,
"pixelSizeX": 1.981847170740366,
"pixelSizeY": 1.9491454251110554,
"meanPixelSize": 0.5990844697766963,
"datasetFormat": "SDR",
"uncompressedSize": 5922176720,
"blockWidth": 128,
"blockHeight": 128,
"compressionType": "LZ77",
"bandNames": [
"Band_1"
],
"allowCopy": true,
"allowAnalysis": true,
"itemAccess": false,
"inspectionCapabilities": "",
"minPixelSize": 0.4340277777777778,
"maxPixelSize": 250,
"copyrightText": "Allen County iMap, Allen County Surveyor's Office",
"serviceDataType": "esriImageServiceDataTypeGeneric",
"serviceSourceType": "esriImageServiceSourceTypeDataset",
"objectIdField": "",
"fields": [],
"capabilities": "Mensuration,Image,Metadata",
"defaultMosaicMethod": "Center",
"allowedMosaicMethods": "",
"sortField": "",
"sortValue": null,
"sortAscending": true,
"mosaicOperator": "First",
"defaultCompressionQuality": 75,
"defaultResamplingMethod": "Bilinear",
"maxImageHeight": 4100,
"maxImageWidth": 15000,
"singleFusedMapCache": true,
"tileInfo": {
"rows": 256,
"cols": 256,
"dpi": 96,
"format": "JPEG",
"compressionQuality": 55,
"origin": {
"x": -18119800,
"y": 20012700
},
"spatialReference": {
"wkid": 2244,
"latestWkid": 2965
},
"lods": [
{
"level": 0,
"resolution": 250,
"scale": 288000
},
{
"level": 1,
"resolution": 125,
"scale": 144000
},
{
"level": 2,
"resolution": 62.5,
"scale": 72000
},
{
"level": 3,
"resolution": 31.25,
"scale": 36000
},
{
"level": 4,
"resolution": 15.625,
"scale": 18000
},
{
"level": 5,
"resolution": 7.8125,
"scale": 9000
},
{
"level": 6,
"resolution": 3.90625,
"scale": 4500
},
{
"level": 7,
"resolution": 1.736111111111111,
"scale": 2000
},
{
"level": 8,
"resolution": 0.8680555555555555,
"scale": 1000
},
{
"level": 9,
"resolution": 0.43402777777777773,
"scale": 500
}
]
},
"storageInfo": {
"storageFormat": "esriMapCacheStorageModeCompact",
"packetSize": 128
},
"cacheType": "Map",
"allowRasterFunction": true,
"rasterFunctionInfos": [
{
"name": "None",
"description": "",
"help": ""
}
],
"rasterTypeInfos": [
{
"name": "Raster Dataset",
"description": "Supports all ArcGIS Raster Datasets",
"help": ""
}
],
"mensurationCapabilities": "Basic",
"hasHistograms": true,
"hasColormap": false,
"hasRasterAttributeTable": false,
"minScale": 288000,
"maxScale": 500,
"exportTilesAllowed": false,
"supportsStatistics": false,
"supportsAdvancedQueries": false,
"editFieldsInfo": null,
"ownershipBasedAccessControlForRasters": null,
"allowComputeTiePoints": false,
"useStandardizedQueries": true,
"advancedQueryCapabilities": {
"useStandardizedQueries": true,
"supportsStatistics": false,
"supportsOrderBy": false,
"supportsDistinct": false,
"supportsPagination": false
},
"spatialReference": {
"wkid": 2244,
"latestWkid": 2965
}
}